BEGIN:VCALENDAR
VERSION:2.0
PRODID:-//Meindert van Dijk//NONSGML kigkonsult.se iCalcreator 2.41.92//
CALSCALE:GREGORIAN
METHOD:PUBLISH
UID:31323338-3662-4339-a561-303965333335
X-WR-CALNAME:iCagenda
X-WR-CALDESC:Event Management Extension for Joomla!
X-WR-RELCALID:3E26604A-50F4-4449-8B3E-E4F4932D05B5
X-WR-TIMEZONE:Europe/Amsterdam
BEGIN:VTIMEZONE
TZID:Europe/Amsterdam
TZUNTIL:20261025T010000Z
BEGIN:STANDARD
TZNAME:CET
DTSTART:20241027T030000
TZOFFSETFROM:+0200
TZOFFSETTO:+0100
RDATE:20251026T030000
END:STANDARD
BEGIN:DAYLIGHT
TZNAME:CEST
DTSTART:20250330T020000
TZOFFSETFROM:+0100
TZOFFSETTO:+0200
RDATE:20260329T020000
END:DAYLIGHT
END:VTIMEZONE
BEGIN:VEVENT
UID:38393364-3166-4566-b435-613962356234
DTSTAMP:20260422T092636Z
CATEGORIES:MCL-tuinen
CLASS:PUBLIC
DESCRIPTION;ALTREP="CID:<FFFF__=0ABBE548DFE235B58f9e8a93d@coffeebean.com>":
 Deze ontspannende\, heilzame wandeling leidt je langs een groot deel van t
 uinen in en rond Medisch Centrum Leeuwarden en door het aangrenzende Abbin
 gapark en Heempark Wirdumervaart.\nJe maakt kennis met mij\, Meindert van 
 Dijk\, fotograaf\, natuurgids en wandelcoach\, tevens auteur van het boek 
 'Heilzame tuinen - Ziekenhuiskamer als vogelkijkhut'. Ik begeleid de wande
 ling. We lopen langs locaties die in het boek worden beschreven. Het boek 
 is ter plaatse in te zien en te koop (of te bestellen).\nBijzonderheden\n
 \nOntvangst is om 10:00 uur met koffie/thee in het restaurant van MCL. Ik 
 probeer de plek te markeren met een staande roll-up banner met de afbeeldi
 ng van mijn boek 'Heilzame Tuinen'.\nAfstand: ca. 6 km.\nWandelduur: ca. 2
 \,5 uur.\nAantal deelnemers: maximaal 10 personen\nAanmelden: graag via de
  groene button 'Aanmelden' bovenaan deze pagina.\nKosten: € 15 per persoon
 *. Dit is inclusief de koffie of thee bij ontvangst en na afloop.Betaling:
  Je bevestigt je aanmelding door het overmaken van de verschuldigde vergoe
 ding (kosten per deelnemer x aantal deelnemers) naar bankrekening NL36INGB
 0001797170 t.n.v. Meindert van Dijk onder vermelding van je naam en datum 
 van de wandeling.\nBevestiging door mij: Meteen na je aanmelding verschijn
 t de mededeling dat je aanmelding voor het evenement Heilzame Groene MCL-W
 andeling  is bevestigd! Gelijktijdig ontvang je een e-mail met de gegevens
  van de wandeling en hoe je de verschuldigde vergoeding voor deelname kunt
  voldoen. Let op: Nadat de betaling is voltooid ontvang je van mij geen ex
 tra bevestiging van je aanmelding. Wanneer de wandeling onverhoopt niet do
 orgaat krijg je de betaling teruggestort.\nBereikbaarheid: MCL is goed ber
 eikbaar met openbaar vervoer\, auto en (brom)fiets.\n\nOpenbaar vervoer: V
 anaf NS-station Leeuwarden (tevens busstation) gaan verschillende buslijne
 n naar het MCL. Als je met de trein komt: je vindt het busstation links va
 n de uitgang van het NS-station. De halte van de stad- en streekbussen is 
 nabij het MCL. Vanaf de halte Henri Dunantweg (recht tegenover de hoofding
 ang) is het nog ca. vijf minuten lopen naar de hoofdingang.\nFietsenstalli
 ng: bevindt zich nu op het parkeerterrein voor bezoekers\, direct aan het 
 fietspad (Henri Dunantweg 2)\nAuto: Het MCL is vanaf alle invalswegen aang
 egeven op de ANWB-borden. Je kunt in Leeuwarden de rondweg volgen. (ANWB-b
 orden naar 'ring' of 'ring zuid'.) Volg de richting H-MCL hoofdingang. Op 
 het terrein van het MCL kunt je (betaald) parkeren.Elektrische auto oplade
 n: Op het hoofdparkeerterrein vind je elektrische oplaadpalen. Heb je een 
 elektrische auto en ben je in (de buurt van) MCL\, dan kunt je je auto daa
 r opladen. De oplaadpalen zijn eigendom van ParknCharge. Meer informatie o
 ver de tarieven van het opladen vind je op de website van ParknCharge.\n\n
 \n\nDisclaimer\n\nHet doel van deze wandeling is om je als deelnemer een i
 ndruk te geven hoeveel groen en natuur aanwezig is in en rond Medisch Ceen
 trum Leeuwarden. Verwacht daarom niet van mij dat ik alle namen van plante
 n en bomen ken. Dat geldt ook voor organisatorische en technische&nbsp\; d
 etails over de gebouwen en voorzieningen.&nbsp\;\nDeelname geschiedt op ei
 gen risico.\n\n* Steun\nDe opbrengst van deze wandeling wordt gebruikt ter
  bestrijding van de hoge productiekosten voor het maken van het in eigen b
 eheer uitgegeven boek 'Heilzame tuinen - Ziekenhuiskamer als vogelkijkhut'
 . Met je deelname aan de wandeling help je mij daarbij.\n{source}&lt\;scri
 pt type='text/javascript'&gt\;var bol_sitebar_v2={'id':'bol_1731619072328'
 \, 'baseUrl':'partner.bol.com'\,'productId':'9300000186155096'\,'familyId'
 :''\,'siteId':'1305960'\,'target':true\,'rating':true\,'price':true\,'deli
 veryDescription':true\,'button':true\,'linkName':'Heilzame%20tuinen%2C%20M
 eindert%20van%20Dijk'\,'linkSubId':''}\;&lt\;/script&gt\;&lt\;script type=
 'text/javascript' src='https://partner.bol.com/promotion/static/js/partner
 ProductlinkV2.js' id='bol_1731619072328'&gt\;&lt\;/script&gt\;{/source}
DTSTART:20250419T080000Z
DTEND:20250419T110000Z
GEO:+53.188873;+5.806916
LOCATION:Medisch Centrum Leeuwarden (MCL)\, Henri Dunantweg 2\, 8934 AD Lee
 uwarden
ORGANIZER;CN=:mailto:info@meindertvandijk.nl
SEQUENCE:1
SUMMARY:Heilzame Groene MCL-Wandeling
TRANSP:OPAQUE
URL:https://www.meindertvandijk.nl/agenda-mcl-tuinen/30-heilzame-groene-mcl
 -wandeling-19-04-2025
END:VEVENT
END:VCALENDAR
